BEGIN:VCALENDAR
VERSION:2.0
PRODID:-//EBISU BATICA | Tokyo - ECPv6.3.7//NONSGML v1.0//EN
CALSCALE:GREGORIAN
METHOD:PUBLISH
X-WR-CALNAME:EBISU BATICA | Tokyo
X-ORIGINAL-URL:https://batica.jp
X-WR-CALDESC:EBISU BATICA | Tokyo のイベント
REFRESH-INTERVAL;VALUE=DURATION:PT1H
X-Robots-Tag:noindex
X-PUBLISHED-TTL:PT1H
BEGIN:VTIMEZONE
TZID:Asia/Tokyo
BEGIN:STANDARD
TZOFFSETFROM:+0900
TZOFFSETTO:+0900
TZNAME:JST
DTSTART:20250101T000000
END:STANDARD
END:VTIMEZONE
BEGIN:VEVENT
DTSTART;TZID=Asia/Tokyo:20250404T160000
DTEND;TZID=Asia/Tokyo:20250404T220000
DTSTAMP:20260424T183524
CREATED:20250303T092926Z
LAST-MODIFIED:20250313T043451Z
UID:2425-1743782400-1743804000@batica.jp
SUMMARY:Say "WoW" vol.3
DESCRIPTION:Say “WoW” vol.3\n2025年4月4日（金）\nOPEN 14:30  / CLOSE 22:00\nEBISU BATICA\nDOOR ¥3000+1D / GUEST ¥2500 +1D   \n-LIVE-\nSiero\nElle\nYog\nTakie\n21gangsound\nik4nj\nlucifer\npemsfrompain\nTiea\nDiaslay\nhtrgnus\nggslayer\nNEJI\nTucker\nNoakid\nlinu\nnowyoumakemeup\nLie\ntna\nSally\nVlll\nbangboo \n-DJ-\nMazilazy\nTOMOYA \n以下の注意事項を必ずお守りください\n※再入場はお断りしております。\n※飲食物の持込もお断りしております。\n※店内にて荷物預かりクロークがございます。\n※会場周辺での溜まりはご遠慮ください。\n※スタッフの指示に従って頂けない場合はご入場をお断りさせて頂きます。
URL:https://batica.jp/events/say-wow-vol-3/
END:VEVENT
BEGIN:VEVENT
DTSTART;TZID=Asia/Tokyo:20250404T230000
DTEND;TZID=Asia/Tokyo:20250405T050000
DTSTAMP:20260424T183524
CREATED:20250303T093028Z
LAST-MODIFIED:20250304T165859Z
UID:2427-1743807600-1743829200@batica.jp
SUMMARY:BURNIN' UP × AJITO
DESCRIPTION:BURNIN’ UP × AJITO\n2025年4月4日 (金)\nOPEN 23:00 / CLOSE 5:00\nEBISU BATICA\nDOOR ￥2000 ※1drink代別\n(00:00までは DOOR ¥1500 ※1drink代別) \n-GUEST-\nRitto&DJ４号棟 (赤土) \n-LIVE-\nKILLHA\nDOPEMENT \n-DJ-\nBudaBuddha\n凸凹。\nにっちょめ\nRhyme&B\nRFR\nRILL\nDoc shi\n4810\nMonica\nSpamboy\nTakumi\nPSYPAPA\nKOMOKEN \n-BEATLIVE-\nwanker \n-Food-\nKUSUDAMA \n-Photo-\nOSK \n-Popup-\n気楽に楽しもう!! \n以下の注意事項を必ずお守りください\n※再入場はお断りしております。\n※飲食物の持込もお断りしております。\n※店内にて荷物預かりクロークがございます。\n※会場周辺での溜まりはご遠慮ください。\n※スタッフの指示に従って頂けない場合はご入場をお断りさせて頂きます。
URL:https://batica.jp/events/burnin-up-x-ajito/
END:VEVENT
END:VCALENDAR