BEGIN:VCALENDAR
VERSION:2.0
PRODID:-//EBISU BATICA | Tokyo - ECPv6.3.7//NONSGML v1.0//EN
CALSCALE:GREGORIAN
METHOD:PUBLISH
X-ORIGINAL-URL:https://batica.jp
X-WR-CALDESC:EBISU BATICA | Tokyo のイベント
REFRESH-INTERVAL;VALUE=DURATION:PT1H
X-Robots-Tag:noindex
X-PUBLISHED-TTL:PT1H
BEGIN:VTIMEZONE
TZID:Asia/Tokyo
BEGIN:STANDARD
TZOFFSETFROM:+0900
TZOFFSETTO:+0900
TZNAME:JST
DTSTART:20250101T000000
END:STANDARD
END:VTIMEZONE
BEGIN:VEVENT
DTSTART;TZID=Asia/Tokyo:20250319T170000
DTEND;TZID=Asia/Tokyo:20250319T220000
DTSTAMP:20260424T182215
CREATED:20250125T153053Z
LAST-MODIFIED:20250308T104258Z
UID:2211-1742403600-1742421600@batica.jp
SUMMARY:Siero “Not In Streets” Release Party
DESCRIPTION:Siero “Not In Streets” Release Party\n2025年3月19日（水・祝前）\nEBISU BATICA\nOPEN 17:00\nDOOR ¥3\,000 / ADV ¥2\,500 ※1ドリンク代別 \n-RELEASE LIVE-\nSiero \n-LIVE-\nlazydoll\nNeed a Flex\nRUPRECXNTA\nyve\nElle\nLie\nPARADOX\n(@ik4nj306).\n21gangsound \n-DJ-\nMazilazy\nKANTA \nご予約はこちら👇\nhttps://docs.google.com/forms/d/1NE4H2b-lICZQOhbJgC_7tYo_3ObwqKzicdtH-imig6g/viewform?edit_requested=true \n以下の注意事項を必ずお守りください\n※再入場はお断りしております。\n※飲食物の持込もお断りしております。\n※店内にて荷物預かりクロークがございます。\n※会場周辺での溜まりはご遠慮ください。\n※スタッフの指示に従って頂けない場合はご入場をお断りさせて頂きます。
URL:https://batica.jp/events/siero-not-in-streets-release-party/
END:VEVENT
BEGIN:VEVENT
DTSTART;TZID=Asia/Tokyo:20250319T230000
DTEND;TZID=Asia/Tokyo:20250320T050000
DTSTAMP:20260424T182215
CREATED:20250125T153244Z
LAST-MODIFIED:20250228T054451Z
UID:2213-1742425200-1742446800@batica.jp
SUMMARY:Momentum
DESCRIPTION:Momentum\n2025年3月19日（水）\nOPEN 23:00 / CLOSE 5:00\nEBISU BATICA\nDoor / ¥1500 ※1ドリンク代込 \n【 DJ 】 \nHironobu Jyounai\nTOBI(aRt)\nMudCat\nHal\n飛飛\nRin Yano \n以下の注意事項を必ずお守りください\n※再入場はお断りしております。\n※飲食物の持込もお断りしております。\n※店内にて荷物預かりクロークがございます。\n※会場周辺での溜まりはご遠慮ください。\n※スタッフの指示に従って頂けない場合はご入場をお断りさせて頂きます。
URL:https://batica.jp/events/momentum/
END:VEVENT
END:VCALENDAR