BEGIN:VCALENDAR
VERSION:2.0
PRODID:-//EBISU BATICA | Tokyo - ECPv6.3.7//NONSGML v1.0//EN
CALSCALE:GREGORIAN
METHOD:PUBLISH
X-ORIGINAL-URL:https://batica.jp
X-WR-CALDESC:EBISU BATICA | Tokyo のイベント
REFRESH-INTERVAL;VALUE=DURATION:PT1H
X-Robots-Tag:noindex
X-PUBLISHED-TTL:PT1H
BEGIN:VTIMEZONE
TZID:Asia/Tokyo
BEGIN:STANDARD
TZOFFSETFROM:+0900
TZOFFSETTO:+0900
TZNAME:JST
DTSTART:20250101T000000
END:STANDARD
END:VTIMEZONE
BEGIN:VEVENT
DTSTART;TZID=Asia/Tokyo:20250316T113000
DTEND;TZID=Asia/Tokyo:20250316T160000
DTSTAMP:20260424T183732
CREATED:20250222T070409Z
LAST-MODIFIED:20250222T070409Z
UID:2363-1742124600-1742140800@batica.jp
SUMMARY:「Sunday\, Lunch Time Parade Vol.26」
DESCRIPTION:「Sunday\, Lunch Time Parade Vol.26」\n2025年3月16日(日)\n開場11:30/開演12:00\nEBISU BATICA\n前売￥2500/当日￥3000+2drink \n【出演】\nさとうらら\n寿々木ここね\nS.A.L.A.D\nROMANTIC PRODUCTION \nライブペイント\n福井伸実 \nご予約はこちら👇 \nhttps://tiget.net/events/381697 \n以下の注意事項を必ずお守りください\n※再入場はお断りしております。\n※飲食物の持込もお断りしております。\n※店内にて荷物預かりクロークがございます。\n※会場周辺での溜まりはご遠慮ください。\n※スタッフの指示に従って頂けない場合はご入場をお断りさせて頂きます。
URL:https://batica.jp/events/%e3%80%8csunday-lunch-time-parade-vol-26%e3%80%8d/
END:VEVENT
BEGIN:VEVENT
DTSTART;TZID=Asia/Tokyo:20250316T170000
DTEND;TZID=Asia/Tokyo:20250316T230000
DTSTAMP:20260424T183732
CREATED:20250125T152737Z
LAST-MODIFIED:20250216T021641Z
UID:2209-1742144400-1742166000@batica.jp
SUMMARY:想い出レインボー
DESCRIPTION:2025.3.16 (日)\n想い出レインボー\nOPEN 17:00 / CLOSE 23:00\nEBISU BATICA\nDOOR ¥2000＋1D \n\nshotac\nWANI-NOKO\n光雅\nDaisuke Ueno\nDychu\nFatters Market\n（重ノ坊りゅうき/DJ janos/Mitsuaki）\nミリ。\nmura mura\n花\nはりー\n春楓\nandmore \n\nちはる \n以下の注意事項を必ずお守りください\n※再入場はお断りしております。\n※飲食物の持込もお断りしております。\n※店内にて荷物預かりクロークがございます。\n※会場周辺での溜まりはご遠慮ください。\n※スタッフの指示に従って頂けない場合はご入場をお断りさせて頂きます。
URL:https://batica.jp/events/%e6%83%b3%e3%81%84%e5%87%ba%e3%83%ac%e3%82%a4%e3%83%b3%e3%83%9c%e3%83%bc/
END:VEVENT
END:VCALENDAR