BEGIN:VCALENDAR
VERSION:2.0
PRODID:-//EBISU BATICA | Tokyo - ECPv6.3.7//NONSGML v1.0//EN
CALSCALE:GREGORIAN
METHOD:PUBLISH
X-ORIGINAL-URL:https://batica.jp
X-WR-CALDESC:EBISU BATICA | Tokyo のイベント
REFRESH-INTERVAL;VALUE=DURATION:PT1H
X-Robots-Tag:noindex
X-PUBLISHED-TTL:PT1H
BEGIN:VTIMEZONE
TZID:Asia/Tokyo
BEGIN:STANDARD
TZOFFSETFROM:+0900
TZOFFSETTO:+0900
TZNAME:JST
DTSTART:20250101T000000
END:STANDARD
END:VTIMEZONE
BEGIN:VEVENT
DTSTART;TZID=Asia/Tokyo:20250315T160000
DTEND;TZID=Asia/Tokyo:20250315T220000
DTSTAMP:20260420T225444
CREATED:20250228T090047Z
LAST-MODIFIED:20250303T072259Z
UID:2205-1742054400-1742076000@batica.jp
SUMMARY:SOMAOTA Pre. 『Anti』
DESCRIPTION:SOMAOTA Pre. 『Anti』\n2025年3月15日（土）\nOPEN 18:00 / START 18:30\nEBISU BATICA\n＜前売＞￥3\,000 ＜当日＞￥3\,500\n※入場時にドリンク代が別途 ¥700 必要となります。 \n-LIVE-\nSOMAOTA\nFunny Factures\nMÖSHI\n＋1 Secret Guest \n-DJ-\nkuniii\njudgeman\nDyna(ego apartment) \n-Shop-\nfeel the rain \nご予約はこちら👇 \nhttps://t.livepocket.jp/e/eq23f \n以下の注意事項を必ずお守りください\n※再入場はお断りしております。\n※飲食物の持込もお断りしております。\n※店内にて荷物預かりクロークがございます。\n※会場周辺での溜まりはご遠慮ください。\n※スタッフの指示に従って頂けない場合はご入場をお断りさせて頂きます。
URL:https://batica.jp/events/somaota-pre-%e3%80%8eanti%e3%80%8f/
END:VEVENT
BEGIN:VEVENT
DTSTART;TZID=Asia/Tokyo:20250315T233000
DTEND;TZID=Asia/Tokyo:20250316T050000
DTSTAMP:20260420T225444
CREATED:20250125T152511Z
LAST-MODIFIED:20250314T101453Z
UID:2207-1742081400-1742101200@batica.jp
SUMMARY:『 FLOAT+ 』
DESCRIPTION:『 FLOAT+ 』\n2025年3月15日(土)\nOPEN 23:30 / CLOSE 5:00\nEBISU BATICA\nDOOR ¥3\,000+1D / ADV ¥2\,500+1D \n-SP GUEST-\nkamui\nlj \n-GUEST-\n東京感性 \n-LIVE-\nAwesome Brothers\nSEEK\nTHE SAMURAI SQUAD\nsullivan\nhi-light\nChasin’Nova&k–bubbles\nlaplacevvv\nRAW-kid\nNARI \n-DJ-\njunsei\ndodge sunny\nghoti.boy_tee\nshota\nHAYATO \n以下の注意事項を必ずお守りください\n※再入場はお断りしております。\n※飲食物の持込もお断りしております。\n※店内にて荷物預かりクロークがございます。\n※会場周辺での溜まりはご遠慮ください。\n※スタッフの指示に従って頂けない場合はご入場をお断りさせて頂きます。
URL:https://batica.jp/events/%e3%80%8e-float-%e3%80%8f/
END:VEVENT
END:VCALENDAR