BEGIN:VCALENDAR
VERSION:2.0
PRODID:-//EBISU BATICA | Tokyo - ECPv6.3.7//NONSGML v1.0//EN
CALSCALE:GREGORIAN
METHOD:PUBLISH
X-WR-CALNAME:EBISU BATICA | Tokyo
X-ORIGINAL-URL:https://batica.jp
X-WR-CALDESC:EBISU BATICA | Tokyo のイベント
REFRESH-INTERVAL;VALUE=DURATION:PT1H
X-Robots-Tag:noindex
X-PUBLISHED-TTL:PT1H
BEGIN:VTIMEZONE
TZID:Asia/Tokyo
BEGIN:STANDARD
TZOFFSETFROM:+0900
TZOFFSETTO:+0900
TZNAME:JST
DTSTART:20250101T000000
END:STANDARD
END:VTIMEZONE
BEGIN:VEVENT
DTSTART;TZID=Asia/Tokyo:20250224T163000
DTEND;TZID=Asia/Tokyo:20250224T220000
DTSTAMP:20260424T182530
CREATED:20250122T110052Z
LAST-MODIFIED:20250129T104846Z
UID:2072-1740414600-1740434400@batica.jp
SUMMARY:BYE-BYE KARAOKI! by sysmo 1st EP release party
DESCRIPTION:BYE-BYE KARAOKI! by sysmo 1st EP release party\n2025年2月24日（月・祝）\nEBISU BATICA\nOPEN16:30 / CLOSE 22:00\nADV ¥2\,500 / DOOR 3\,000 ※1ドリンク代別 \n-LIVE-\nsysmo\nCwondo\n与謝野 (safmusic & 浅井杜人）\nMK woop\nXamd\nyunem\njvnpey \n-DJ-\n拳\nDjuBumba\nGardenb2bsatoru\nu-ma\nseñar\nyohey\n超越\nLil Peace \nご予約はこちら👇\nhttps://docs.google.com/forms/d/1qt9G4hby7iIfqXLms43GEEq2QUhBTbqx3Dfg2tzrAy8/edit \n以下の注意事項を必ずお守りください\n※再入場はお断りしております。\n※飲食物の持込もお断りしております。\n※店内にて荷物預かりクロークがございます。\n※会場周辺での溜まりはご遠慮ください。\n※スタッフの指示に従って頂けない場合はご入場をお断りさせて頂きます。
URL:https://batica.jp/events/bye-bye-karaoki-by-sysmo-1st-ep-release-party/
END:VEVENT
BEGIN:VEVENT
DTSTART;TZID=Asia/Tokyo:20250224T230000
DTEND;TZID=Asia/Tokyo:20250225T050000
DTSTAMP:20260424T182530
CREATED:20250222T063856Z
LAST-MODIFIED:20250222T063856Z
UID:2350-1740438000-1740459600@batica.jp
SUMMARY:PRIVATE PARTY
DESCRIPTION:open 23:00 \n以下の注意事項を必ずお守りください\n※再入場はお断りしております。\n※飲食物の持込もお断りしております。\n※店内にて荷物預かりクロークがございます。\n※会場周辺での溜まりはご遠慮ください。\n※スタッフの指示に従って頂けない場合はご入場をお断りさせて頂きます。
URL:https://batica.jp/events/private-party-5/
END:VEVENT
END:VCALENDAR