BEGIN:VCALENDAR
VERSION:2.0
PRODID:-//EBISU BATICA | Tokyo - ECPv6.3.7//NONSGML v1.0//EN
CALSCALE:GREGORIAN
METHOD:PUBLISH
X-WR-CALNAME:EBISU BATICA | Tokyo
X-ORIGINAL-URL:https://batica.jp
X-WR-CALDESC:EBISU BATICA | Tokyo のイベント
REFRESH-INTERVAL;VALUE=DURATION:PT1H
X-Robots-Tag:noindex
X-PUBLISHED-TTL:PT1H
BEGIN:VTIMEZONE
TZID:Asia/Tokyo
BEGIN:STANDARD
TZOFFSETFROM:+0900
TZOFFSETTO:+0900
TZNAME:JST
DTSTART:20240101T000000
END:STANDARD
END:VTIMEZONE
BEGIN:VEVENT
DTSTART;TZID=Asia/Tokyo:20240618T180000
DTEND;TZID=Asia/Tokyo:20240618T220000
DTSTAMP:20260421T172859
CREATED:20240518T073613Z
LAST-MODIFIED:20240609T130449Z
UID:450-1718733600-1718748000@batica.jp
SUMMARY:Magie Fondante.5
DESCRIPTION:Magie Fondante.5\n¥2024年6月18日（火)\nOPEN 18:00\nEBISU BATICA\nDOOR ¥3\,000 / ADV ¥2\,500 / U-23 ¥2\,000 ※1ドリンク代別 \n-LIVE-\n穂ノ佳\nHUGEN\n&more… \n-DJ-\nI’ve RADAR\nSoU\nTenkey\n鈴木正義\nYuki Shintani\nmizunotabibito DJ’s \nご予約はこちら \n以下の注意事項を必ずお守りください\n※再入場はお断りしております。\n※飲食物の持込もお断りしております。\n※店内にて荷物預かりクロークがございます。\n※会場周辺での溜まりはご遠慮ください。\n※スタッフの指示に従って頂けない場合はご入場をお断りさせて頂きます。
URL:https://batica.jp/events/magie-fondante-5/
END:VEVENT
END:VCALENDAR