BEGIN:VCALENDAR
VERSION:2.0
PRODID:-//EBISU BATICA | Tokyo - ECPv6.3.7//NONSGML v1.0//EN
CALSCALE:GREGORIAN
METHOD:PUBLISH
X-ORIGINAL-URL:https://batica.jp
X-WR-CALDESC:EBISU BATICA | Tokyo のイベント
REFRESH-INTERVAL;VALUE=DURATION:PT1H
X-Robots-Tag:noindex
X-PUBLISHED-TTL:PT1H
BEGIN:VTIMEZONE
TZID:Asia/Tokyo
BEGIN:STANDARD
TZOFFSETFROM:+0900
TZOFFSETTO:+0900
TZNAME:JST
DTSTART:20260101T000000
END:STANDARD
END:VTIMEZONE
BEGIN:VEVENT
DTSTART;TZID=Asia/Tokyo:20260424T230000
DTEND;TZID=Asia/Tokyo:20260425T050000
DTSTAMP:20260424T183021
CREATED:20260311T100036Z
LAST-MODIFIED:20260421T133404Z
UID:4591-1777071600-1777093200@batica.jp
SUMMARY:RIOT Vol.7
DESCRIPTION:RIOT Vol.7\n2026年4月24日（金）\nOPEN 23:00\nDOOR ¥2\,800 / ADV ¥2\,300 ※1ドリンク代別 \n-LIVE-\nK1D MOODY\ncailus\nyachi\nvani\nyanny\nkous\npems\nwakeuprari!\nfada\n88 \n-DJ-\ntomoya\nakito\nzaki\nsig\nkeita\nshota\nmao\nloku \n以下の注意事項を必ずお守りください\n※再入場はお断りしております。\n※飲食物の持込もお断りしております。\n※会場周辺での溜まりはご遠慮ください。\n※スタッフの指示に従って頂けない場合はご入場をお断りさせて頂きます。
URL:https://batica.jp/events/riot-vol-7/
END:VEVENT
BEGIN:VEVENT
DTSTART;TZID=Asia/Tokyo:20260425T200000
DTEND;TZID=Asia/Tokyo:20260426T050000
DTSTAMP:20260424T183021
CREATED:20260311T104247Z
LAST-MODIFIED:20260316T100603Z
UID:4634-1777147200-1777179600@batica.jp
SUMMARY:EBISU BATICA 15th ANNIVERSARY DAY4 "MATSURI"
DESCRIPTION:EBISU BATICA 15th ANNIVERSARY DAY4「MATSURI」\n2026年4月25日(土)\nOPEN 20:00\nEBISU BATICA\nDOOR ¥3\,000+1D \n-SP GUEST LIVE-\nOMSB\n18scott \n-LIVE-\nFlat Line Classics\nFrb\nme2\nBYORA\nContrail Club\nB-Base House\nKAGUYA \n-DJ-\n原島”ど真ん中”宙芳 & DJ Real Life\nDJ ZAI\nshakke\nHi’Spec\nNano Dia\n颯\nTa93\nannatrez & MEI\nSoU\ncode\n272\nターミネーター2鈴木 \n-FOOD-\nkabuto \n以下の注意事項を必ずお守りください\n※再入場はお断りしております。\n※飲食物の持込もお断りしております。\n※会場周辺での溜まりはご遠慮ください。\n※スタッフの指示に従って頂けない場合はご入場をお断りさせて頂きます。
URL:https://batica.jp/events/matsuri/
END:VEVENT
BEGIN:VEVENT
DTSTART;TZID=Asia/Tokyo:20260426T160000
DTEND;TZID=Asia/Tokyo:20260426T220000
DTSTAMP:20260424T183021
CREATED:20260311T104326Z
LAST-MODIFIED:20260421T133222Z
UID:4636-1777219200-1777240800@batica.jp
SUMMARY:マジよか！VOL.2
DESCRIPTION:マジよか！VOL.2\n2026年4月26日（日）\nOPEN 16:00 / CLOSE 22:00\nDOOR ¥2000 ※1ドリンク代別 \n-LIVE-\nQua\nnatureclub®\nYanny\nKOHSHINOMIYA\nFililx王\nMatsuo\n+800\nUTOMURASAKI\nlil鉄火巻\nXENO\nSOH EMPTY\nKWC \n-DJ-\nMASATOKAGE\nwindbreaker\nhimetan\nNOva\n加宅田清陽 \n以下の注意事項を必ずお守りください\n※再入場はお断りしております。\n※飲食物の持込もお断りしております。\n※会場周辺での溜まりはご遠慮ください。\n※スタッフの指示に従って頂けない場合はご入場をお断りさせて頂きます。
URL:https://batica.jp/events/%e3%83%9e%e3%82%b8%e3%82%88%e3%81%8b%ef%bc%81vol-2/
END:VEVENT
BEGIN:VEVENT
DTSTART;TZID=Asia/Tokyo:20260427T230000
DTEND;TZID=Asia/Tokyo:20260428T050000
DTSTAMP:20260424T183021
CREATED:20260421T134427Z
LAST-MODIFIED:20260421T134517Z
UID:4891-1777330800-1777352400@batica.jp
SUMMARY:PRIVATE PARTY
DESCRIPTION:open 23:00 \n以下の注意事項を必ずお守りください\n※再入場はお断りしております。\n※飲食物の持込もお断りしております。\n※会場周辺での溜まりはご遠慮ください。\n※スタッフの指示に従って頂けない場合はご入場をお断りさせて頂きます。
URL:https://batica.jp/events/private-party-12/
END:VEVENT
BEGIN:VEVENT
DTSTART;TZID=Asia/Tokyo:20260428T180000
DTEND;TZID=Asia/Tokyo:20260428T230000
DTSTAMP:20260424T183021
CREATED:20260401T100110Z
LAST-MODIFIED:20260401T100110Z
UID:4736-1777399200-1777417200@batica.jp
SUMMARY:ELIXIR/ /EXHALE
DESCRIPTION:ELIXIR/ /EXHALE\n2026年 4月 28日（火）\nOPEN 18:30  / CLOSE 23:00\nDOOR ¥2\,800 / ADV ¥2\,200 ※1ドリンク代別  \n-LIVE-\nThe Psychedelic Mars\nRadddjur\n96†\nハルタダイチ\nMotomu.Miura \n-DJ-\nArisu Neko\nwasavyjunky\nYosuke (Celezenka)\nStrangelove (PØRTAL)\nPHIL (nowheres) \n-POPUP-\nENOG SOUP\nPØRTAL  \n以下の注意事項を必ずお守りください\n※再入場はお断りしております。\n※飲食物の持込もお断りしております。\n※会場周辺での溜まりはご遠慮ください。\n※スタッフの指示に従って頂けない場合はご入場をお断りさせて頂きます。
URL:https://batica.jp/events/elixir-exhale/
END:VEVENT
BEGIN:VEVENT
DTSTART;TZID=Asia/Tokyo:20260429T160000
DTEND;TZID=Asia/Tokyo:20260429T220000
DTSTAMP:20260424T183021
CREATED:20260311T104428Z
LAST-MODIFIED:20260316T100756Z
UID:4638-1777478400-1777500000@batica.jp
SUMMARY:EBISU BATICA 15th ANNIVERSARY DAY5 "crux"
DESCRIPTION:EBISU BATICA 15th ANNIVERSARY DAY 5「crux」\n2026年4月29 (水・祝)\nEBISU BATICA\nOPEN 16:00\nDOOR ¥3\,500+2D / ADV ¥3\,000+2D \nご予約はこちら⇩\nhttps://docs.google.com/forms/d/e/1FAIpQLScpaxG-hkmUnZoQWVKTGiqXsY1cjZ6nJigM32hsH8c3sfsw5Q/viewform?usp=dialog \n-LIVE-\nOnly U\nSiero\nkegøn\nLillie\nYamiboi To$\nwill away\nEL Mosh\nYOODAI\n18easy \n-DJ-\nHIGH-TONE\nhanauetease\n108\nHabe\nchex2\njrtrg\nYAMAFAKI\nSig×6mu\nMONE\nszkPP\nKotaroUchida\nSAKVTA!!! \n以下の注意事項を必ずお守りください\n※再入場はお断りしております。\n※飲食物の持込もお断りしております。\n※会場周辺での溜まりはご遠慮ください。\n※スタッフの指示に従って頂けない場合はご入場をお断りさせて頂きます。
URL:https://batica.jp/events/crux-4/
END:VEVENT
BEGIN:VEVENT
DTSTART;TZID=Asia/Tokyo:20260430T190000
DTEND;TZID=Asia/Tokyo:20260430T220000
DTSTAMP:20260424T183021
CREATED:20260311T104530Z
LAST-MODIFIED:20260412T094013Z
UID:4640-1777575600-1777586400@batica.jp
SUMMARY:tomorrow
DESCRIPTION:tomorrow\n2026年4月30日(木)\nOPEN 19:00\nADV ¥3.000　※1ドリンク代別 \n前売り券はこちらから👇\nhttps://livepocket.jp/e/tomorrow \n-LIVE-\ntmrr\nTOKYO世界\nシラフ \n-DJ-\nmalik\nhana\nmana \n以下の注意事項を必ずお守りください\n※再入場はお断りしております。\n※飲食物の持込もお断りしております。\n※会場周辺での溜まりはご遠慮ください。\n※スタッフの指示に従って頂けない場合はご入場をお断りさせて頂きます。
URL:https://batica.jp/events/tomorrow/
END:VEVENT
END:VCALENDAR